BEGIN:VCALENDAR
VERSION:2.0
PRODID:-//pretix//Access//
BEGIN:VTIMEZONE
TZID:Europe/Berlin
BEGIN:STANDARD
DTSTART:20001029T040000
RRULE:FREQ=YEARLY;BYDAY=-1SU;BYMONTH=10
TZNAME:CET
TZOFFSETFROM:+0200
TZOFFSETTO:+0100
END:STANDARD
BEGIN:DAYLIGHT
DTSTART:20000326T030000
RRULE:FREQ=YEARLY;BYDAY=-1SU;BYMONTH=3
TZNAME:CEST
TZOFFSETFROM:+0100
TZOFFSETTO:+0200
END:DAYLIGHT
END:VTIMEZONE
BEGIN:VEVENT
UID:pretix-postbauer-heng-Neujahr2026-0@tickets.postbauer-heng.de
DTSTART;TZID=Europe/Berlin:20260125T170000
DTEND;TZID=Europe/Berlin:20260125T180000
DESCRIPTION:Tickets: https://tickets.postbauer-heng.de/Neujahr2026/\nVerans
 talter: Markt Postbauer-Heng
DTSTAMP:20260420T025010Z
LOCATION:Deutschordensschloss an der Ezelsdorfer Straße 5\, 92353 Postbaue
 r-Heng
SUMMARY:Neujahrskonzert Freudenschmaus Musikalische Lesung
END:VEVENT
END:VCALENDAR
